BEGIN:VCALENDAR
VERSION:2.0
PRODID:-//Sabre//Sabre VObject 4.5.8//EN
CALSCALE:GREGORIAN
BEGIN:VEVENT
UID:criticalmass-one-pforzheim-1606500000
DTSTAMP:20260423T190030Z
SUMMARY:Critical Mass Pforzheim 27.11.2020
DTSTART;TZID=Europe/Berlin:20201127T190000
DTEND;TZID=Europe/Berlin:20201127T210000
LOCATION:Waisenhausplatz
GEO:48.889665;8.701633
URL;VALUE=URI:https://criticalmass.in/pforzheim/2020-11-27
END:VEVENT
END:VCALENDAR
