BEGIN:VCALENDAR
VERSION:2.0
PRODID:-//Sabre//Sabre VObject 4.5.8//EN
CALSCALE:GREGORIAN
BEGIN:VEVENT
UID:criticalmass-one-pforzheim-1601053200
DTSTAMP:20260423T053416Z
SUMMARY:Critical Mass Pforzheim 25.09.2020
DTSTART;TZID=Europe/Berlin:20200925T190000
DTEND;TZID=Europe/Berlin:20200925T210000
LOCATION:Waisenhausplatz
GEO:48.889665;8.701633
URL;VALUE=URI:https://criticalmass.in/pforzheim/2020-09-25
END:VEVENT
END:VCALENDAR
