BEGIN:VCALENDAR
VERSION:2.0
PRODID:-//Sabre//Sabre VObject 4.5.8//EN
CALSCALE:GREGORIAN
BEGIN:VEVENT
UID:criticalmass-one-pforzheim-1596214800
DTSTAMP:20260424T232807Z
SUMMARY:Critical Mass Pforzheim 31.07.2020
DTSTART;TZID=Europe/Berlin:20200731T190000
DTEND;TZID=Europe/Berlin:20200731T210000
LOCATION:Waisenhausplatz
GEO:48.889665;8.701633
URL;VALUE=URI:https://criticalmass.in/pforzheim/2020-07-31
END:VEVENT
END:VCALENDAR
