BEGIN:VCALENDAR
VERSION:2.0
PRODID:-//Sabre//Sabre VObject 4.5.8//EN
CALSCALE:GREGORIAN
BEGIN:VEVENT
UID:criticalmass-one-pforzheim-1593190800
DTSTAMP:20260424T100753Z
SUMMARY:Critical Mass Pforzheim 26.06.2020
DTSTART;TZID=Europe/Berlin:20200626T190000
DTEND;TZID=Europe/Berlin:20200626T210000
LOCATION:Waisenhausplatz
GEO:48.889665;8.701633
URL;VALUE=URI:https://criticalmass.in/pforzheim/2020-06-26
END:VEVENT
END:VCALENDAR
