BEGIN:VCALENDAR
VERSION:2.0
PRODID:-//Sabre//Sabre VObject 4.5.8//EN
CALSCALE:GREGORIAN
BEGIN:VEVENT
UID:criticalmass-one-perth-1769811300
DTSTAMP:20260422T222630Z
SUMMARY:Alex Pretti Memorial Ride — Darren Smith
DESCRIPTION:Perth CBD to Cottesloe to Fremantle\, finishing on the Esplanad
 e\nMeet under the Narrows Bridge\, Swan River (look for the 50ish-looking 
 guy on the rusty Raleigh touring bike with yellow bar tape)\nMeet at 0615\
 , roll out at 0630. Pace: old rusty touring bike speed. Whatever that is.
DTSTART;TZID=Australia/Perth:20260131T061500
DTEND;TZID=Australia/Perth:20260131T081500
LOCATION:Under the Narrows Bridge\, Perth
GEO:-31.962094;115.847151
URL;VALUE=URI:https://criticalmass.in/perth/alex-pretti-memorial-ride-perth
 -2026-01-31
END:VEVENT
END:VCALENDAR
