BEGIN:VCALENDAR
VERSION:2.0
PRODID:-//Sabre//Sabre VObject 4.5.8//EN
CALSCALE:GREGORIAN
BEGIN:VEVENT
UID:criticalmass-one-passau-1493388000
DTSTAMP:20260425T043522Z
SUMMARY:Critical Mass Passau 28.04.2017
DTSTART;TZID=Europe/Berlin:20170428T160000
DTEND;TZID=Europe/Berlin:20170428T180000
LOCATION:Klostergarten
GEO:48.571425;13.457332
URL;VALUE=URI:https://criticalmass.in/passau/2017-04-28
END:VEVENT
END:VCALENDAR
