BEGIN:VCALENDAR
VERSION:2.0
PRODID:-//Sabre//Sabre VObject 4.5.8//EN
CALSCALE:GREGORIAN
BEGIN:VEVENT
UID:criticalmass-one-passau-1458918000
DTSTAMP:20260421T100133Z
SUMMARY:Critical Mass Passau 25.03.2016
DTSTART;TZID=Europe/Berlin:20160325T160000
DTEND;TZID=Europe/Berlin:20160325T180000
LOCATION:Klostergarten
GEO:48.571425;13.457332
URL;VALUE=URI:https://criticalmass.in/passau/2016-03-25
END:VEVENT
END:VCALENDAR
