BEGIN:VCALENDAR
VERSION:2.0
PRODID:-//Sabre//Sabre VObject 4.5.8//EN
CALSCALE:GREGORIAN
BEGIN:VEVENT
UID:criticalmass-one-paris-1653811200
DTSTAMP:20260421T211352Z
SUMMARY:Kidical Mass Paris (FR) 29.05.2022
DTSTART;TZID=Europe/Berlin:20220529T100000
DTEND;TZID=Europe/Berlin:20220529T120000
LOCATION:Place Baudoyer
GEO:48.856216;2.355323
URL;VALUE=URI:https://criticalmass.in/paris/kidical-mass-paris-mai-2022
END:VEVENT
END:VCALENDAR
