BEGIN:VCALENDAR
VERSION:2.0
PRODID:-//Sabre//Sabre VObject 4.5.8//EN
CALSCALE:GREGORIAN
BEGIN:VEVENT
UID:criticalmass-one-pankow-1600605900
DTSTAMP:20260420T201002Z
SUMMARY:Kidical Mass Pankow
DTSTART;TZID=Europe/Berlin:20200920T144500
DTEND;TZID=Europe/Berlin:20200920T164500
LOCATION:Ossietzkystraße
GEO:52.574074;13.407794
URL;VALUE=URI:https://criticalmass.in/pankow/kidical-mass-pankow-september-
 2020
END:VEVENT
END:VCALENDAR
