BEGIN:VCALENDAR
VERSION:2.0
PRODID:-//Sabre//Sabre VObject 4.5.8//EN
CALSCALE:GREGORIAN
BEGIN:VEVENT
UID:criticalmass-one-pankow-1683374400
DTSTAMP:20260420T230809Z
SUMMARY:Kidical Mass Berlin Pankow 06.05.2023
DTSTART;TZID=Europe/Berlin:20230506T140000
DTEND;TZID=Europe/Berlin:20230506T160000
LOCATION:Am Schloßpark / Ossietzkystraße
GEO:52.573876;13.407541
URL;VALUE=URI:https://criticalmass.in/pankow/kidical-mass-pankow-mai-2023
END:VEVENT
END:VCALENDAR
