BEGIN:VCALENDAR
VERSION:2.0
PRODID:-//Sabre//Sabre VObject 4.5.8//EN
CALSCALE:GREGORIAN
BEGIN:VEVENT
UID:criticalmass-one-pankow-1652533200
DTSTAMP:20260420T230809Z
SUMMARY:Kidical Mass Berlin Pankow 14.05.2022
DTSTART;TZID=Europe/Berlin:20220514T150000
DTEND;TZID=Europe/Berlin:20220514T170000
LOCATION:Ossietzkystraße
GEO:52.574055;13.407526
URL;VALUE=URI:https://criticalmass.in/pankow/kidical-mass-pankow-mai-2022
END:VEVENT
END:VCALENDAR
