BEGIN:VCALENDAR
VERSION:2.0
PRODID:-//Sabre//Sabre VObject 4.5.8//EN
CALSCALE:GREGORIAN
BEGIN:VEVENT
UID:criticalmass-one-pankow-1769796000
DTSTAMP:20260421T081134Z
SUMMARY:Critical Mass Pankow 30.01.2026
DTSTART;TZID=Europe/Berlin:20260130T190000
DTEND;TZID=Europe/Berlin:20260130T210000
LOCATION:Gethsemane Kirche
GEO:52.547548;13.416023
URL;VALUE=URI:https://criticalmass.in/pankow/2026-01-30
END:VEVENT
END:VCALENDAR
