BEGIN:VCALENDAR
VERSION:2.0
PRODID:-//Sabre//Sabre VObject 4.5.8//EN
CALSCALE:GREGORIAN
BEGIN:VEVENT
UID:criticalmass-one-pankow-1738346400
DTSTAMP:20260420T200552Z
SUMMARY:Critical Mass Pankow 31.01.2025
DTSTART;TZID=Europe/Berlin:20250131T190000
DTEND;TZID=Europe/Berlin:20250131T210000
LOCATION:Gethsemane Kirche
GEO:52.547548;13.416023
URL;VALUE=URI:https://criticalmass.in/pankow/2025-01-31
END:VEVENT
END:VCALENDAR
