BEGIN:VCALENDAR
VERSION:2.0
PRODID:-//Sabre//Sabre VObject 4.5.8//EN
CALSCALE:GREGORIAN
BEGIN:VEVENT
UID:criticalmass-one-pankow-1682701200
DTSTAMP:20260421T001736Z
SUMMARY:Critical Mass Pankow 28.04.2023
DTSTART;TZID=Europe/Berlin:20230428T190000
DTEND;TZID=Europe/Berlin:20230428T210000
LOCATION:Gethsemane Kirche
GEO:52.547548;13.416023
URL;VALUE=URI:https://criticalmass.in/pankow/2023-04-28
END:VEVENT
END:VCALENDAR
