BEGIN:VCALENDAR
VERSION:2.0
PRODID:-//Sabre//Sabre VObject 4.5.8//EN
CALSCALE:GREGORIAN
BEGIN:VEVENT
UID:criticalmass-one-pankow-1604073600
DTSTAMP:20260421T083859Z
SUMMARY:Critical Mass Pankow 30.10.2020
DTSTART;TZID=Europe/Berlin:20201030T170000
DTEND;TZID=Europe/Berlin:20201030T190000
LOCATION:Gethsemane Kirche
GEO:52.547548;13.416023
URL;VALUE=URI:https://criticalmass.in/pankow/2020-10-30
END:VEVENT
END:VCALENDAR
