BEGIN:VCALENDAR
VERSION:2.0
PRODID:-//Sabre//Sabre VObject 4.5.8//EN
CALSCALE:GREGORIAN
BEGIN:VEVENT
UID:criticalmass-one-pankow-1602090000
DTSTAMP:20260420T212531Z
SUMMARY:Critical Mass Pankow 07.10.2020
DTSTART;TZID=Europe/Berlin:20201007T190000
DTEND;TZID=Europe/Berlin:20201007T210000
LOCATION:Garbaty Platz
GEO:52.567338;13.412064
URL;VALUE=URI:https://criticalmass.in/pankow/2020-10-07
END:VEVENT
END:VCALENDAR
