BEGIN:VCALENDAR
VERSION:2.0
PRODID:-//Sabre//Sabre VObject 4.5.8//EN
CALSCALE:GREGORIAN
BEGIN:VEVENT
UID:criticalmass-one-pankow-1596214800
DTSTAMP:20260420T183400Z
SUMMARY:Critical Mass Pankow 31.07.2020
DTSTART;TZID=Europe/Berlin:20200731T190000
DTEND;TZID=Europe/Berlin:20200731T210000
LOCATION:Gethsemane Kirche
GEO:52.547548;13.416023
URL;VALUE=URI:https://criticalmass.in/pankow/2020-07-31
END:VEVENT
END:VCALENDAR
