BEGIN:VCALENDAR
VERSION:2.0
PRODID:-//Sabre//Sabre VObject 4.5.8//EN
CALSCALE:GREGORIAN
BEGIN:VEVENT
UID:criticalmass-one-pankow-1593622800
DTSTAMP:20260420T225126Z
SUMMARY:Critical Mass Pankow 01.07.2020
DTSTART;TZID=Europe/Berlin:20200701T190000
DTEND;TZID=Europe/Berlin:20200701T210000
LOCATION:Garbaty Platz
GEO:52.567338;13.412064
URL;VALUE=URI:https://criticalmass.in/pankow/2020-07-01
END:VEVENT
END:VCALENDAR
