BEGIN:VCALENDAR
VERSION:2.0
PRODID:-//Sabre//Sabre VObject 4.5.8//EN
CALSCALE:GREGORIAN
BEGIN:VEVENT
UID:criticalmass-one-pankow-1591203600
DTSTAMP:20260420T200446Z
SUMMARY:Critical Mass Pankow 03.06.2020
DTSTART;TZID=Europe/Berlin:20200603T190000
DTEND;TZID=Europe/Berlin:20200603T210000
LOCATION:Garbaty Platz
GEO:52.567338;13.412064
URL;VALUE=URI:https://criticalmass.in/pankow/2020-06-03
END:VEVENT
END:VCALENDAR
