BEGIN:VCALENDAR
VERSION:2.0
PRODID:-//Sabre//Sabre VObject 4.5.8//EN
CALSCALE:GREGORIAN
BEGIN:VEVENT
UID:criticalmass-one-pankow-1559754000
DTSTAMP:20260421T223219Z
SUMMARY:Critical Mass Pankow 05.06.2019
DTSTART;TZID=Europe/Berlin:20190605T190000
DTEND;TZID=Europe/Berlin:20190605T210000
LOCATION:Garbaty Platz
GEO:52.567338;13.412064
URL;VALUE=URI:https://criticalmass.in/pankow/2019-06-05
END:VEVENT
END:VCALENDAR
