BEGIN:VCALENDAR
VERSION:2.0
PRODID:-//Sabre//Sabre VObject 4.5.8//EN
CALSCALE:GREGORIAN
BEGIN:VEVENT
UID:criticalmass-one-pankow-1556730000
DTSTAMP:20260420T200356Z
SUMMARY:Critical Mass Pankow 01.05.2019
DTSTART;TZID=Europe/Berlin:20190501T190000
DTEND;TZID=Europe/Berlin:20190501T210000
LOCATION:Garbaty Platz
GEO:52.567338;13.412064
URL;VALUE=URI:https://criticalmass.in/pankow/2019-05-01
END:VEVENT
END:VCALENDAR
