BEGIN:VCALENDAR
VERSION:2.0
PRODID:-//Sabre//Sabre VObject 4.5.8//EN
CALSCALE:GREGORIAN
BEGIN:VEVENT
UID:criticalmass-one-pankow-1546452000
DTSTAMP:20260420T225026Z
SUMMARY:Critical Mass Pankow 02.01.2019
DTSTART;TZID=Europe/Berlin:20190102T190000
DTEND;TZID=Europe/Berlin:20190102T210000
LOCATION:Garbaty Platz
GEO:52.567338;13.412064
URL;VALUE=URI:https://criticalmass.in/pankow/2019-01-02
END:VEVENT
END:VCALENDAR
