BEGIN:VCALENDAR
VERSION:2.0
PRODID:-//Sabre//Sabre VObject 4.5.8//EN
CALSCALE:GREGORIAN
BEGIN:VEVENT
UID:criticalmass-one-pankow-1544032800
DTSTAMP:20260420T183249Z
SUMMARY:Critical Mass Pankow 05.12.2018
DTSTART;TZID=Europe/Berlin:20181205T190000
DTEND;TZID=Europe/Berlin:20181205T210000
LOCATION:Garbaty Platz
GEO:52.567338;13.412064
URL;VALUE=URI:https://criticalmass.in/pankow/2018-12-05
END:VEVENT
END:VCALENDAR
