BEGIN:VCALENDAR
VERSION:2.0
PRODID:-//Sabre//Sabre VObject 4.5.8//EN
CALSCALE:GREGORIAN
BEGIN:VEVENT
UID:criticalmass-one-paderborn-1727614800
DTSTAMP:20260424T063143Z
SUMMARY:Kidical Mass Paderborn 29.09.2024
DTSTART;TZID=Europe/Berlin:20240929T150000
DTEND;TZID=Europe/Berlin:20240929T170000
LOCATION:Paderborn Tausendquellpark
GEO:51.718921;8.757509
URL;VALUE=URI:https://criticalmass.in/paderborn/kidical-mass-paderborn-sept
 ember-2024
END:VEVENT
END:VCALENDAR
