BEGIN:VCALENDAR
VERSION:2.0
PRODID:-//Sabre//Sabre VObject 4.5.8//EN
CALSCALE:GREGORIAN
BEGIN:VEVENT
UID:criticalmass-one-paderborn-1688140800
DTSTAMP:20260424T133127Z
SUMMARY:Critical Mass Paderborn 30.06.2023
DTSTART;TZID=Europe/Berlin:20230630T180000
DTEND;TZID=Europe/Berlin:20230630T200000
LOCATION:Hauptbahnhof Paderborn
GEO:51.713291;8.740870
URL;VALUE=URI:https://criticalmass.in/paderborn/2023-06-30
END:VEVENT
END:VCALENDAR
