BEGIN:VCALENDAR
VERSION:2.0
PRODID:-//Sabre//Sabre VObject 4.5.8//EN
CALSCALE:GREGORIAN
BEGIN:VEVENT
UID:criticalmass-one-paderborn-1680278400
DTSTAMP:20260423T204232Z
SUMMARY:Critical Mass Paderborn 31.03.2023
DTSTART;TZID=Europe/Berlin:20230331T180000
DTEND;TZID=Europe/Berlin:20230331T200000
LOCATION:Hauptbahnhof Paderborn
GEO:51.713291;8.740870
URL;VALUE=URI:https://criticalmass.in/paderborn/2023-03-31
END:VEVENT
END:VCALENDAR
