BEGIN:VCALENDAR
VERSION:2.0
PRODID:-//Sabre//Sabre VObject 4.5.8//EN
CALSCALE:GREGORIAN
BEGIN:VEVENT
UID:criticalmass-one-paderborn-1661529600
DTSTAMP:20260423T202147Z
SUMMARY:Critical Mass Paderborn 26.08.2022
DTSTART;TZID=Europe/Berlin:20220826T180000
DTEND;TZID=Europe/Berlin:20220826T200000
LOCATION:Hauptbahnhof Paderborn
GEO:51.713291;8.740870
URL;VALUE=URI:https://criticalmass.in/paderborn/2022-08-26
END:VEVENT
END:VCALENDAR
