BEGIN:VCALENDAR
VERSION:2.0
PRODID:-//Sabre//Sabre VObject 4.5.8//EN
CALSCALE:GREGORIAN
BEGIN:VEVENT
UID:criticalmass-one-paderborn-1659110400
DTSTAMP:20260424T021903Z
SUMMARY:Critical Mass Paderborn 29.07.2022
DTSTART;TZID=Europe/Berlin:20220729T180000
DTEND;TZID=Europe/Berlin:20220729T200000
LOCATION:Hauptbahnhof Paderborn
GEO:51.713291;8.740870
URL;VALUE=URI:https://criticalmass.in/paderborn/2022-07-29
END:VEVENT
END:VCALENDAR
