BEGIN:VCALENDAR
VERSION:2.0
PRODID:-//Sabre//Sabre VObject 4.5.8//EN
CALSCALE:GREGORIAN
BEGIN:VEVENT
UID:criticalmass-one-paderborn-1635523200
DTSTAMP:20260423T162946Z
SUMMARY:Critical Mass Paderborn 29.10.2021
DTSTART;TZID=Europe/Berlin:20211029T180000
DTEND;TZID=Europe/Berlin:20211029T200000
LOCATION:Hauptbahnhof Paderborn
GEO:51.713291;8.740870
URL;VALUE=URI:https://criticalmass.in/paderborn/2021-10-29
END:VEVENT
END:VCALENDAR
