BEGIN:VCALENDAR
VERSION:2.0
PRODID:-//Sabre//Sabre VObject 4.5.8//EN
CALSCALE:GREGORIAN
BEGIN:VEVENT
UID:criticalmass-one-paderborn-1611939600
DTSTAMP:20260424T065121Z
SUMMARY:Critical Mass Paderborn 29.01.2021
DTSTART;TZID=Europe/Berlin:20210129T180000
DTEND;TZID=Europe/Berlin:20210129T200000
LOCATION:Hauptbahnhof Paderborn
GEO:51.713291;8.740870
URL;VALUE=URI:https://criticalmass.in/paderborn/2021-01-29
END:VEVENT
END:VCALENDAR
