BEGIN:VCALENDAR
VERSION:2.0
PRODID:-//Sabre//Sabre VObject 4.5.8//EN
CALSCALE:GREGORIAN
BEGIN:VEVENT
UID:criticalmass-one-paderborn-1606496400
DTSTAMP:20260425T001715Z
SUMMARY:Critical Mass Paderborn 27.11.2020
DTSTART;TZID=Europe/Berlin:20201127T180000
DTEND;TZID=Europe/Berlin:20201127T200000
LOCATION:Hauptbahnhof Paderborn
GEO:51.713291;8.740870
URL;VALUE=URI:https://criticalmass.in/paderborn/2020-11-27
END:VEVENT
END:VCALENDAR
