BEGIN:VCALENDAR
VERSION:2.0
PRODID:-//Sabre//Sabre VObject 4.5.8//EN
CALSCALE:GREGORIAN
BEGIN:VEVENT
UID:criticalmass-one-paderborn-1601049600
DTSTAMP:20260423T144542Z
SUMMARY:Critical Mass Paderborn 25.09.2020
DTSTART;TZID=Europe/Berlin:20200925T180000
DTEND;TZID=Europe/Berlin:20200925T200000
LOCATION:Hauptbahnhof Paderborn
GEO:51.713291;8.740870
URL;VALUE=URI:https://criticalmass.in/paderborn/2020-09-25
END:VEVENT
END:VCALENDAR
