BEGIN:VCALENDAR
VERSION:2.0
PRODID:-//Sabre//Sabre VObject 4.5.8//EN
CALSCALE:GREGORIAN
BEGIN:VEVENT
UID:criticalmass-one-paderborn-1593187200
DTSTAMP:20260423T143450Z
SUMMARY:Critical Mass Paderborn 26.06.2020
DTSTART;TZID=Europe/Berlin:20200626T180000
DTEND;TZID=Europe/Berlin:20200626T200000
LOCATION:Hauptbahnhof Paderborn
GEO:51.713291;8.740870
URL;VALUE=URI:https://criticalmass.in/paderborn/2020-06-26
END:VEVENT
END:VCALENDAR
