BEGIN:VCALENDAR
VERSION:2.0
PRODID:-//Sabre//Sabre VObject 4.5.8//EN
CALSCALE:GREGORIAN
BEGIN:VEVENT
UID:criticalmass-one-paderborn-1522429200
DTSTAMP:20260425T220944Z
SUMMARY:Critical Mass Paderborn 30.03.2018
DTSTART;TZID=Europe/Berlin:20180330T190000
DTEND;TZID=Europe/Berlin:20180330T210000
LOCATION:Hauptbahnhof Paderborn
GEO:51.713291;8.740870
URL;VALUE=URI:https://criticalmass.in/paderborn/2018-03-30
END:VEVENT
END:VCALENDAR
