BEGIN:VCALENDAR
VERSION:2.0
PRODID:-//Sabre//Sabre VObject 4.5.8//EN
CALSCALE:GREGORIAN
BEGIN:VEVENT
UID:criticalmass-one-paderborn-1477670400
DTSTAMP:20260423T160306Z
SUMMARY:Critical Mass Paderborn 28.10.2016
DTSTART;TZID=Europe/Berlin:20161028T180000
DTEND;TZID=Europe/Berlin:20161028T200000
LOCATION:Hauptbahnhof Paderborn
GEO:51.713291;8.740870
URL;VALUE=URI:https://criticalmass.in/paderborn/2016-10-28
END:VEVENT
END:VCALENDAR
