BEGIN:VCALENDAR
VERSION:2.0
PRODID:-//Sabre//Sabre VObject 4.5.8//EN
CALSCALE:GREGORIAN
BEGIN:VEVENT
UID:criticalmass-one-paderborn-1438358400
DTSTAMP:20260424T093839Z
SUMMARY:Critical Mass Paderborn 31.07.2015
DTSTART;TZID=Europe/Berlin:20150731T180000
DTEND;TZID=Europe/Berlin:20150731T200000
LOCATION:Hauptbahnhof Paderborn
GEO:51.713291;8.740870
URL;VALUE=URI:https://criticalmass.in/paderborn/2015-07-31
END:VEVENT
END:VCALENDAR
