BEGIN:VCALENDAR
VERSION:2.0
PRODID:-//Sabre//Sabre VObject 4.5.8//EN
CALSCALE:GREGORIAN
BEGIN:VEVENT
UID:criticalmass-one-paderborn-1398441600
DTSTAMP:20260424T191018Z
SUMMARY:Critical Mass Paderborn 25.04.2014
DTSTART;TZID=Europe/Berlin:20140425T180000
DTEND;TZID=Europe/Berlin:20140425T200000
LOCATION:Hauptbahnhof Paderborn
GEO:51.713291;8.740870
URL;VALUE=URI:https://criticalmass.in/paderborn/2014-04-25
END:VEVENT
END:VCALENDAR
