BEGIN:VCALENDAR
VERSION:2.0
PRODID:-//Sabre//Sabre VObject 4.5.8//EN
CALSCALE:GREGORIAN
BEGIN:VEVENT
UID:criticalmass-one-paderborn-1396026000
DTSTAMP:20260425T134646Z
SUMMARY:Critical Mass Paderborn 28.03.2014
DTSTART;TZID=Europe/Berlin:20140328T180000
DTEND;TZID=Europe/Berlin:20140328T200000
LOCATION:Hauptbahnhof Paderborn
GEO:51.713291;8.740870
URL;VALUE=URI:https://criticalmass.in/paderborn/2014-03-28
END:VEVENT
END:VCALENDAR
