BEGIN:VCALENDAR
VERSION:2.0
PRODID:-//Sabre//Sabre VObject 4.5.8//EN
CALSCALE:GREGORIAN
BEGIN:VEVENT
UID:criticalmass-one-oxford-1695553200
DTSTAMP:20260422T163228Z
SUMMARY:Kidical Mass Oxford 24.09.2023
DTSTART;TZID=Europe/Berlin:20230924T130000
DTEND;TZID=Europe/Berlin:20230924T150000
GEO:51.752021;-1.257726
URL;VALUE=URI:https://criticalmass.in/oxford/kidical-mass-oxford-september-
 2023
END:VEVENT
END:VCALENDAR
