BEGIN:VCALENDAR
VERSION:2.0
PRODID:-//Sabre//Sabre VObject 4.5.8//EN
CALSCALE:GREGORIAN
BEGIN:VEVENT
UID:criticalmass-one-oxford-1761931800
DTSTAMP:20260422T105407Z
SUMMARY:Critical Mass Oxford 31.10.2025
DTSTART;TZID=Europe/Berlin:20251031T183000
DTEND;TZID=Europe/Berlin:20251031T203000
LOCATION:Broad Street
GEO:51.754373;-1.256186
URL;VALUE=URI:https://criticalmass.in/oxford/2025-10-31
END:VEVENT
END:VCALENDAR
