BEGIN:VCALENDAR
VERSION:2.0
PRODID:-//Sabre//Sabre VObject 4.5.8//EN
CALSCALE:GREGORIAN
BEGIN:VEVENT
UID:criticalmass-one-oxford-1748622600
DTSTAMP:20260422T020642Z
SUMMARY:Critical Mass Oxford 30.05.2025
DTSTART;TZID=Europe/Berlin:20250530T183000
DTEND;TZID=Europe/Berlin:20250530T203000
LOCATION:Broad Street
GEO:51.754373;-1.256186
URL;VALUE=URI:https://criticalmass.in/oxford/2025-05-30
END:VEVENT
END:VCALENDAR
