BEGIN:VCALENDAR
VERSION:2.0
PRODID:-//Sabre//Sabre VObject 4.5.8//EN
CALSCALE:GREGORIAN
BEGIN:VEVENT
UID:criticalmass-one-oxford-1735320600
DTSTAMP:20260422T202335Z
SUMMARY:Critical Mass Oxford 27.12.2024
DTSTART;TZID=Europe/Berlin:20241227T183000
DTEND;TZID=Europe/Berlin:20241227T203000
LOCATION:Broad Street
GEO:51.754373;-1.256186
URL;VALUE=URI:https://criticalmass.in/oxford/2024-12-27
END:VEVENT
END:VCALENDAR
