BEGIN:VCALENDAR
VERSION:2.0
PRODID:-//Sabre//Sabre VObject 4.5.8//EN
CALSCALE:GREGORIAN
BEGIN:VEVENT
UID:criticalmass-one-oxford-1725035400
DTSTAMP:20260424T180901Z
SUMMARY:Critical Mass Oxford 30.08.2024
DTSTART;TZID=Europe/Berlin:20240830T183000
DTEND;TZID=Europe/Berlin:20240830T203000
LOCATION:Broad Street
GEO:51.754373;-1.256186
URL;VALUE=URI:https://criticalmass.in/oxford/2024-08-30
END:VEVENT
END:VCALENDAR
