BEGIN:VCALENDAR
VERSION:2.0
PRODID:-//Sabre//Sabre VObject 4.5.8//EN
CALSCALE:GREGORIAN
BEGIN:VEVENT
UID:criticalmass-one-oxford-1722011400
DTSTAMP:20260419T151743Z
SUMMARY:Critical Mass Oxford 26.07.2024
DTSTART;TZID=Europe/Berlin:20240726T183000
DTEND;TZID=Europe/Berlin:20240726T203000
LOCATION:Broad Street
GEO:51.754373;-1.256186
URL;VALUE=URI:https://criticalmass.in/oxford/2024-07-26
END:VEVENT
END:VCALENDAR
