BEGIN:VCALENDAR
VERSION:2.0
PRODID:-//Sabre//Sabre VObject 4.5.8//EN
CALSCALE:GREGORIAN
BEGIN:VEVENT
UID:criticalmass-one-oxford-1708709400
DTSTAMP:20260422T113736Z
SUMMARY:Critical Mass Oxford 23.02.2024 - Against forgetting and for humani
 ty
DESCRIPTION:This time\, let's be on the road for humanity and against forge
 tting! Anti-Semitism\, racism and exclusion of any kind must have no place
  with us!
DTSTART;TZID=Europe/Berlin:20240223T183000
DTEND;TZID=Europe/Berlin:20240223T203000
LOCATION:Broad Street
GEO:51.754373;-1.256186
URL;VALUE=URI:https://criticalmass.in/oxford/2024-02-23
END:VEVENT
END:VCALENDAR
