BEGIN:VCALENDAR
VERSION:2.0
PRODID:-//Sabre//Sabre VObject 4.5.8//EN
CALSCALE:GREGORIAN
BEGIN:VEVENT
UID:criticalmass-one-oxford-1692981000
DTSTAMP:20260422T100147Z
SUMMARY:Critical Mass Oxford 25.08.2023
DTSTART;TZID=Europe/Berlin:20230825T183000
DTEND;TZID=Europe/Berlin:20230825T203000
LOCATION:Broad Street
GEO:51.754373;-1.256186
URL;VALUE=URI:https://criticalmass.in/oxford/2023-08-25
END:VEVENT
END:VCALENDAR
