BEGIN:VCALENDAR
VERSION:2.0
PRODID:-//Sabre//Sabre VObject 4.5.8//EN
CALSCALE:GREGORIAN
BEGIN:VEVENT
UID:criticalmass-one-oxford-1677259800
DTSTAMP:20260422T105410Z
SUMMARY:Critical Mass Oxford 24.02.2023
DTSTART;TZID=Europe/Berlin:20230224T183000
DTEND;TZID=Europe/Berlin:20230224T203000
LOCATION:Broad Street
GEO:51.754373;-1.256186
URL;VALUE=URI:https://criticalmass.in/oxford/2023-02-24
END:VEVENT
END:VCALENDAR
