BEGIN:VCALENDAR
VERSION:2.0
PRODID:-//Sabre//Sabre VObject 4.5.8//EN
CALSCALE:GREGORIAN
BEGIN:VEVENT
UID:criticalmass-one-oxford-1669397400
DTSTAMP:20260422T131015Z
SUMMARY:Critical Mass Oxford 25.11.2022
DTSTART;TZID=Europe/Berlin:20221125T183000
DTEND;TZID=Europe/Berlin:20221125T203000
LOCATION:Broad Street
GEO:51.754373;-1.256186
URL;VALUE=URI:https://criticalmass.in/oxford/2022-11-25
END:VEVENT
END:VCALENDAR
