BEGIN:VCALENDAR
VERSION:2.0
PRODID:-//Sabre//Sabre VObject 4.5.8//EN
CALSCALE:GREGORIAN
BEGIN:VEVENT
UID:criticalmass-one-oxford-1664555400
DTSTAMP:20260421T113424Z
SUMMARY:Critical Mass Oxford 30.09.2022
DTSTART;TZID=Europe/Berlin:20220930T183000
DTEND;TZID=Europe/Berlin:20220930T203000
LOCATION:Broad Street
GEO:51.754373;-1.256186
URL;VALUE=URI:https://criticalmass.in/oxford/2022-09-30
END:VEVENT
END:VCALENDAR
