BEGIN:VCALENDAR
VERSION:2.0
PRODID:-//Sabre//Sabre VObject 4.5.8//EN
CALSCALE:GREGORIAN
BEGIN:VEVENT
UID:criticalmass-one-oxford-1648229400
DTSTAMP:20260421T100514Z
SUMMARY:Critical Mass Oxford 25.03.2022
DTSTART;TZID=Europe/Berlin:20220325T183000
DTEND;TZID=Europe/Berlin:20220325T203000
LOCATION:Broad Street
GEO:51.754373;-1.256186
URL;VALUE=URI:https://criticalmass.in/oxford/2022-03-25
END:VEVENT
END:VCALENDAR
